BEGIN:VCALENDAR
VERSION:2.0
PRODID:-//https://lecze-salezjanie.pl///DJ-Events//EN
BEGIN:VEVENT
SUMMARY:+ Jadwiga Madera - w 10 rocznicę śmierci i o zdrowie dla Zygmunta 
UID:1755@https://lecze-salezjanie.pl/
DTSTART:20231216T170000
DTEND:20231216T170000
DTSTAMP:20260419T151648
CATEGORIES:Msza święta
LOCATION:Suchacz 82-340 Kielecka 14
GEO:54.2856461944789;19.44132685661316
DESCRIPTION:
URL:https://lecze-salezjanie.pl//component/djevents/details/2023-12-16/1755-jadwiga-madera-w-10-rocznice-smierci-i-o-zdrowie-dla-zygmunta
END:VEVENT
END:VCALENDAR
