BEGIN:VCALENDAR
VERSION:2.0
PRODID:-//https://lecze-salezjanie.pl///DJ-Events//EN
BEGIN:VEVENT
SUMMARY:+ Maria Tomasik - w miesiąc po śmierci
UID:1724@https://lecze-salezjanie.pl/
DTSTART:20231217T103000
DTEND:20231217T103000
DTSTAMP:20260419T170433
CATEGORIES:Msza święta
LOCATION:Suchacz 82-340 Kielecka 14
GEO:54.2856461944789;19.44132685661316
DESCRIPTION:
URL:https://lecze-salezjanie.pl//component/djevents/details/2023-12-17/1724-maria-tomasik-w-miesiac-po-smierci
END:VEVENT
END:VCALENDAR
