BEGIN:VCALENDAR
VERSION:2.0
PRODID:-//https://lecze-salezjanie.pl///DJ-Events//EN
BEGIN:VEVENT
SUMMARY:+ Bogusław Biernacki - w 3 rocznicę śmierci
UID:1720@https://lecze-salezjanie.pl/
DTSTART:20231218T180000
DTEND:20231218T180000
DTSTAMP:20260419T165917
CATEGORIES:Msza święta
LOCATION:Łęcze 82-340 Łęcze 48
GEO:54.2700545652713;19.468870040475466
DESCRIPTION:
URL:https://lecze-salezjanie.pl//component/djevents/details/2023-12-18/1720-boguslaw-biernacki-w-3-rocznice-smierci
END:VEVENT
END:VCALENDAR
