BEGIN:VCALENDAR
VERSION:2.0
PRODID:-//https://lecze-salezjanie.pl///DJ-Events//EN
BEGIN:VEVENT
SUMMARY:O zdrowie, Boże Błogosławieństwo i opiekę Matki Bożej dla Bogumiły Giedrys
UID:1756@https://lecze-salezjanie.pl/
DTSTART:20231219T170000
DTEND:20231219T170000
DTSTAMP:20260419T182150
CATEGORIES:Msza święta
LOCATION:Suchacz 82-340 Kielecka 14
GEO:54.2856461944789;19.44132685661316
DESCRIPTION:
URL:https://lecze-salezjanie.pl//component/djevents/details/2023-12-19/1756-o-zdrowie-boze-blogoslawienstwo-i-opieke-matki-bozej-dla-bogumily-giedrys
END:VEVENT
END:VCALENDAR
