BEGIN:VCALENDAR
VERSION:2.0
PRODID:-//https://lecze-salezjanie.pl///DJ-Events//EN
BEGIN:VEVENT
SUMMARY:O Boże Błogosławieństwo, potrzebne łaski dla Janusza Rygały i jego rodziny z okazji urodzin
UID:1758@https://lecze-salezjanie.pl/
DTSTART:20231220T180000
DTEND:20231220T180000
DTSTAMP:20260419T170041
CATEGORIES:Msza święta
LOCATION:Łęcze 82-340 Łęcze 48
GEO:54.2700545652713;19.468870040475466
DESCRIPTION:
URL:https://lecze-salezjanie.pl//component/djevents/details/2023-12-20/1758-o-boze-blogoslawienstwo-potrzebne-laski-dla-janusza-rygaly-i-jego-rodziny-z-okazji-urodzin
END:VEVENT
END:VCALENDAR
