BEGIN:VCALENDAR
VERSION:2.0
PRODID:-//https://lecze-salezjanie.pl///DJ-Events//EN
BEGIN:VEVENT
SUMMARY:+ zmarli z rodziny Sosnowskich i Kosznik
UID:1623@https://lecze-salezjanie.pl/
DTSTART:20231224T103000
DTEND:20231224T103000
DTSTAMP:20260419T181814
CATEGORIES:Msza święta
LOCATION:Suchacz 82-340 Kielecka 14
GEO:54.2856461944789;19.44132685661316
DESCRIPTION:
URL:https://lecze-salezjanie.pl//component/djevents/details/2023-12-24/1623-zmarli-z-rodziny-sosnowskich-i-kosznik
END:VEVENT
END:VCALENDAR
