BEGIN:VCALENDAR
VERSION:2.0
PRODID:-//https://lecze-salezjanie.pl///DJ-Events//EN
BEGIN:VEVENT
SUMMARY:+ Sławomir Milewski - z ofiar pogrzebu
UID:1702@https://lecze-salezjanie.pl/
DTSTART:20231224T120000
DTEND:20231224T120000
DTSTAMP:20260419T181906
CATEGORIES:Msza święta
LOCATION:Kamionek Wielki 82-340 Kamionek Wielki 5
GEO:54.262029131955885;19.404954271163948
DESCRIPTION:
URL:https://lecze-salezjanie.pl//component/djevents/details/2023-12-24/1702-slawomir-milewski-z-ofiar-pogrzebu-1
END:VEVENT
END:VCALENDAR
