BEGIN:VCALENDAR
VERSION:2.0
PRODID:-//https://lecze-salezjanie.pl///DJ-Events//EN
BEGIN:VEVENT
SUMMARY:+ Henryk, Wacław, Irena i zmarli z rodziny Andrukiewiczów, Androników, Pankiewiczów, Łazuków i Czyżewskich
UID:1703@https://lecze-salezjanie.pl/
DTSTART:20231224T090000
DTEND:20231224T090000
DTSTAMP:20260419T182009
CATEGORIES:Msza święta
LOCATION:Suchacz 82-340 Kielecka 14
GEO:54.2856461944789;19.44132685661316
DESCRIPTION:
URL:https://lecze-salezjanie.pl//component/djevents/details/2023-12-24/1703-henryk-waclaw-irena-i-zmarli-z-rodziny-andrukiewiczow-andronikow-pankiewiczow-lazukow-i-czyzewskich
END:VEVENT
END:VCALENDAR
