BEGIN:VCALENDAR
VERSION:2.0
PRODID:-//https://lecze-salezjanie.pl///DJ-Events//EN
BEGIN:VEVENT
SUMMARY:+ Hanna Kostiów - w 7 rocznicę śmierci
UID:1139@https://lecze-salezjanie.pl/
DTSTART:20231225T120000
DTEND:20231225T120000
DTSTAMP:20260419T181701
CATEGORIES:Msza święta
LOCATION:Łęcze 82-340 Łęcze 48
GEO:54.2700545652713;19.468870040475466
DESCRIPTION:
URL:https://lecze-salezjanie.pl//component/djevents/details/2023-12-25/1139-hanna-kostiow-w-7-rocznice-smierci
END:VEVENT
END:VCALENDAR
