BEGIN:VCALENDAR
VERSION:2.0
PRODID:-//https://lecze-salezjanie.pl///DJ-Events//EN
BEGIN:VEVENT
SUMMARY:+ Andrzej, Jadwiga, Alicja z rodziny Przybylskich oraz Helena i Jan Sylwestrzak
UID:1262@https://lecze-salezjanie.pl/
DTSTART:20231225T103000
DTEND:20231225T103000
DTSTAMP:20260419T182010
CATEGORIES:Msza święta
LOCATION:Suchacz 82-340 Kielecka 14
GEO:54.2856461944789;19.44132685661316
DESCRIPTION:
URL:https://lecze-salezjanie.pl//component/djevents/details/2023-12-25/1262-andrzej-jadwiga-alicja-z-rodziny-przybylskich-oraz-helena-i-jan-sylwestrzak
END:VEVENT
END:VCALENDAR
