BEGIN:VCALENDAR
VERSION:2.0
PRODID:-//https://lecze-salezjanie.pl///DJ-Events//EN
BEGIN:VEVENT
SUMMARY:W intencji księdza Proboszcza - imieninowa
UID:1750@https://lecze-salezjanie.pl/
DTSTART:20231225T120000
DTEND:20231225T120000
DTSTAMP:20260419T181935
CATEGORIES:Msza święta
LOCATION:Kamionek Wielki 82-340 Kamionek Wielki 5
GEO:54.262029131955885;19.404954271163948
DESCRIPTION:
URL:https://lecze-salezjanie.pl//component/djevents/details/2023-12-25/1750-w-intencji-ksiedza-proboszcza-imieninowa
END:VEVENT
END:VCALENDAR
