BEGIN:VCALENDAR
VERSION:2.0
PRODID:-//https://lecze-salezjanie.pl///DJ-Events//EN
BEGIN:VEVENT
SUMMARY:O Boże Błogosławieństwo, zdrowie i opiekę Matki Bożej dla Adama i całej rodziny Suzinowiczów
UID:1769@https://lecze-salezjanie.pl/
DTSTART:20231225T000000
DTEND:20231225T000000
DTSTAMP:20260419T182149
CATEGORIES:Msza święta
LOCATION:Suchacz 82-340 Kielecka 14
GEO:54.2856461944789;19.44132685661316
DESCRIPTION:
URL:https://lecze-salezjanie.pl//component/djevents/details/2023-12-25/1769-o-boze-blogoslawienstwo-zdrowie-i-opieke-matki-bozej-dla-adama-i-calej-rodziny-suzinowiczow
END:VEVENT
END:VCALENDAR
