BEGIN:VCALENDAR
VERSION:2.0
PRODID:-//https://lecze-salezjanie.pl///DJ-Events//EN
BEGIN:VEVENT
SUMMARY:O łaskę wiary, Boże Błogosławieństwo, uzdrowienie duszy i ciała dla Wojtka, Marcina i ich rodzin
UID:1263@https://lecze-salezjanie.pl/
DTSTART:20231226T103000
DTEND:20231226T103000
DTSTAMP:20260419T182141
CATEGORIES:Msza święta
LOCATION:Suchacz 82-340 Kielecka 14
GEO:54.2856461944789;19.44132685661316
DESCRIPTION:
URL:https://lecze-salezjanie.pl//component/djevents/details/2023-12-26/1263-o-laske-wiary-boze-blogoslawienstwo-uzdrowienie-duszy-i-ciala-dla-wojtka-marcina-i-ich-rodzin-2
END:VEVENT
END:VCALENDAR
