BEGIN:VCALENDAR
VERSION:2.0
PRODID:-//https://lecze-salezjanie.pl///DJ-Events//EN
BEGIN:VEVENT
SUMMARY:+ Teresa Grzegrzółka - w 9 rocznicę śmierci i zmarłych rodziców obojga stron
UID:1704@https://lecze-salezjanie.pl/
DTSTART:20231226T090000
DTEND:20231226T090000
DTSTAMP:20260419T200257
CATEGORIES:Msza święta
LOCATION:Suchacz 82-340 Kielecka 14
GEO:54.2856461944789;19.44132685661316
DESCRIPTION:
URL:https://lecze-salezjanie.pl//component/djevents/details/2023-12-26/1704-henryk-waclaw-irena-i-zmarli-z-rodziny-andrukiewiczow-andronikow-pankiewiczow-lazukow-i-czyzewskich-1
END:VEVENT
END:VCALENDAR
