BEGIN:VCALENDAR
VERSION:2.0
PRODID:-//https://lecze-salezjanie.pl///DJ-Events//EN
BEGIN:VEVENT
SUMMARY:+ Helena Literska - z ofiar pogrzebu
UID:1770@https://lecze-salezjanie.pl/
DTSTART:20231228T170000
DTEND:20231228T170000
DTSTAMP:20260419T181814
CATEGORIES:Msza święta
LOCATION:Suchacz 82-340 Kielecka 14
GEO:54.2856461944789;19.44132685661316
DESCRIPTION:
URL:https://lecze-salezjanie.pl//component/djevents/details/2023-12-28/1770-helena-literska-z-ofiar-pogrzebu-3
END:VEVENT
END:VCALENDAR
