BEGIN:VCALENDAR
VERSION:2.0
PRODID:-//https://lecze-salezjanie.pl///DJ-Events//EN
BEGIN:VEVENT
SUMMARY:Dziękczynna, z prośbą o Boże Błogosławieństwo w 2024 roku dla Jadwigi Makarewicz i jej rodziny
UID:1690@https://lecze-salezjanie.pl/
DTSTART:20231230T180000
DTEND:20231230T180000
DTSTAMP:20260419T182141
CATEGORIES:Msza święta
LOCATION:Łęcze 82-340 Łęcze 48
GEO:54.2700545652713;19.468870040475466
DESCRIPTION:
URL:https://lecze-salezjanie.pl//component/djevents/details/2023-12-30/1690-dziekczynna-z-prosba-o-boze-blogoslawienstwo-w-2024-roku-dla-jadwigi-makarewicz-i-jej-rodziny
END:VEVENT
END:VCALENDAR
