BEGIN:VCALENDAR
VERSION:2.0
PRODID:-//https://lecze-salezjanie.pl///DJ-Events//EN
BEGIN:VEVENT
SUMMARY:+ Jerzy Biernacki, Jan Radziwoń, Edward Fota i zmarli z rodziny
UID:1651@https://lecze-salezjanie.pl/
DTSTART:20231231T090000
DTEND:20231231T090000
DTSTAMP:20260419T200250
CATEGORIES:Msza święta
LOCATION:Łęcze 82-340 Łęcze 48
GEO:54.2700545652713;19.468870040475466
DESCRIPTION:
URL:https://lecze-salezjanie.pl//component/djevents/details/2023-12-31/1651-jerzy-biernacki-jan-radziwon-edward-fota-i-zmarli-z-rodziny
END:VEVENT
END:VCALENDAR
