BEGIN:VCALENDAR
VERSION:2.0
PRODID:-//https://lecze-salezjanie.pl///DJ-Events//EN
BEGIN:VEVENT
SUMMARY:Dziękczynna, z prośbą o Boże Błogosławieństwo w 2024 roku dla Janiny Andrukiewicz i jej rodziny
UID:1707@https://lecze-salezjanie.pl/
DTSTART:20231231T103000
DTEND:20231231T103000
DTSTAMP:20260419T200338
CATEGORIES:Msza święta
LOCATION:Suchacz 82-340 Kielecka 14
GEO:54.2856461944789;19.44132685661316
DESCRIPTION:
URL:https://lecze-salezjanie.pl//component/djevents/details/2023-12-31/1707-dziekczynna-z-prosba-o-boze-blogoslawienstwo-w-2024-roku-dla-janiny-andrukiewicz-i-jej-rodziny
END:VEVENT
END:VCALENDAR
