BEGIN:VCALENDAR
VERSION:2.0
PRODID:-//https://lecze-salezjanie.pl///DJ-Events//EN
BEGIN:VEVENT
SUMMARY:+ Zofia, Maria, Stefania i Jan Werner
UID:1726@https://lecze-salezjanie.pl/
DTSTART:20231231T090000
DTEND:20231231T090000
DTSTAMP:20260419T200015
CATEGORIES:Msza święta
LOCATION:Suchacz 82-340 Kielecka 14
GEO:54.2856461944789;19.44132685661316
DESCRIPTION:
URL:https://lecze-salezjanie.pl//component/djevents/details/2023-12-31/1726-zofia-maria-stefania-i-jan-werner
END:VEVENT
END:VCALENDAR
