BEGIN:VCALENDAR
VERSION:2.0
PRODID:-//https://lecze-salezjanie.pl///DJ-Events//EN
BEGIN:VEVENT
SUMMARY:+ Genowefa i Franciszek Piotrowscy
UID:1909@https://lecze-salezjanie.pl/
DTSTART:20240101T103000
DTEND:20240101T103000
DTSTAMP:20260419T195629
CATEGORIES:Msza święta
LOCATION:Suchacz 82-340 Kielecka 14
GEO:54.2856461944789;19.44132685661316
DESCRIPTION:
URL:https://lecze-salezjanie.pl//component/djevents/details/2024-01-01/1909-genowefa-i-franciszek-piotrowscy-1
END:VEVENT
END:VCALENDAR
