BEGIN:VCALENDAR
VERSION:2.0
PRODID:-//https://lecze-salezjanie.pl///DJ-Events//EN
BEGIN:VEVENT
SUMMARY:+ Jarosław Hirko - w 6 rocznicę śmierci
UID:2000@https://lecze-salezjanie.pl/
DTSTART:20240101T120000
DTEND:20240101T120000
DTSTAMP:20260419T195655
CATEGORIES:Msza święta
LOCATION:Kamionek Wielki 82-340 Kamionek Wielki 5
GEO:54.262029131955885;19.404954271163948
DESCRIPTION:
URL:https://lecze-salezjanie.pl//component/djevents/details/2024-01-01/2000-jaroslaw-hirko-w-6-rocznice-smierci
END:VEVENT
END:VCALENDAR
