BEGIN:VCALENDAR
VERSION:2.0
PRODID:-//https://lecze-salezjanie.pl///DJ-Events//EN
BEGIN:VEVENT
SUMMARY:+ Józef Antonik - Msza święta Gregoriańska (3)
UID:1775@https://lecze-salezjanie.pl/
DTSTART:20240103T150000
DTEND:20240103T150000
DTSTAMP:20260419T195818
CATEGORIES:Msza święta
LOCATION:Łęcze 82-340 Łęcze 48
GEO:54.2700545652713;19.468870040475466
DESCRIPTION:
URL:https://lecze-salezjanie.pl//component/djevents/details/2024-01-03/1775-jozef-antonik-msza-swieta-gregorianska-3
END:VEVENT
END:VCALENDAR
