BEGIN:VCALENDAR
VERSION:2.0
PRODID:-//https://lecze-salezjanie.pl///DJ-Events//EN
BEGIN:VEVENT
SUMMARY:+ Krystyna i Jerzy Piotrowscy oraz Helena i Leszek Lustyk, dziadków z obojga stron
UID:1910@https://lecze-salezjanie.pl/
DTSTART:20240106T103000
DTEND:20240106T103000
DTSTAMP:20260419T200153
CATEGORIES:Msza święta
LOCATION:Suchacz 82-340 Kielecka 14
GEO:54.2856461944789;19.44132685661316
DESCRIPTION:
URL:https://lecze-salezjanie.pl//component/djevents/details/2024-01-06/1910-krystyna-i-jerzy-piotrowscy-oraz-helena-i-leszek-lustyk-dziadkow-z-obojga-stron
END:VEVENT
END:VCALENDAR
