BEGIN:VCALENDAR
VERSION:2.0
PRODID:-//https://lecze-salezjanie.pl///DJ-Events//EN
BEGIN:VEVENT
SUMMARY:+ Iwona Święcicka - w 30 rocznicę śmierci, Marianna i Franciszek Matuszak oraz Regina i Leon Święciccy
UID:1911@https://lecze-salezjanie.pl/
DTSTART:20240106T090000
DTEND:20240106T090000
DTSTAMP:20260419T200250
CATEGORIES:Msza święta
LOCATION:Suchacz 82-340 Kielecka 14
GEO:54.2856461944789;19.44132685661316
DESCRIPTION:
URL:https://lecze-salezjanie.pl//component/djevents/details/2024-01-06/1911-iwona-swiecicka-w-30-rocznice-smierci-marianna-i-franciszek-matuszak-oraz-regina-i-leon-swieciccy
END:VEVENT
END:VCALENDAR
