BEGIN:VCALENDAR
VERSION:2.0
PRODID:-//https://lecze-salezjanie.pl///DJ-Events//EN
BEGIN:VEVENT
SUMMARY:+ Zygmunt i Agnieszka Nowiccy
UID:1913@https://lecze-salezjanie.pl/
DTSTART:20240107T090000
DTEND:20240107T090000
DTSTAMP:20260419T215145
CATEGORIES:Msza święta
LOCATION:Suchacz 82-340 Kielecka 14
GEO:54.2856461944789;19.44132685661316
DESCRIPTION:
URL:https://lecze-salezjanie.pl//component/djevents/details/2024-01-07/1913-zygmunt-i-agnieszka-nowiccy
END:VEVENT
END:VCALENDAR
