BEGIN:VCALENDAR
VERSION:2.0
PRODID:-//https://lecze-salezjanie.pl///DJ-Events//EN
BEGIN:VEVENT
SUMMARY:+ Józef Antonik - Msza święta Gregoriańska (8)
UID:1780@https://lecze-salezjanie.pl/
DTSTART:20240108T150000
DTEND:20240108T150000
DTSTAMP:20260419T214801
CATEGORIES:Msza święta
LOCATION:Łęcze 82-340 Łęcze 48
GEO:54.2700545652713;19.468870040475466
DESCRIPTION:
URL:https://lecze-salezjanie.pl//component/djevents/details/2024-01-08/1780-jozef-antonik-msza-swieta-gregorianska-8
END:VEVENT
END:VCALENDAR
