BEGIN:VCALENDAR
VERSION:2.0
PRODID:-//https://lecze-salezjanie.pl///DJ-Events//EN
BEGIN:VEVENT
SUMMARY:+ Józef Antonik - Msza święta Gregoriańska (16)
UID:1788@https://lecze-salezjanie.pl/
DTSTART:20240116T150000
DTEND:20240116T150000
DTSTAMP:20260419T233913
CATEGORIES:Msza święta
LOCATION:Łęcze 82-340 Łęcze 48
GEO:54.2700545652713;19.468870040475466
DESCRIPTION:
URL:https://lecze-salezjanie.pl//component/djevents/details/2024-01-16/1788-jozef-antonik-msza-swieta-gregorianska-16
END:VEVENT
END:VCALENDAR
