BEGIN:VCALENDAR
VERSION:2.0
PRODID:-//https://lecze-salezjanie.pl///DJ-Events//EN
BEGIN:VEVENT
SUMMARY:Za Parafian
UID:2018@https://lecze-salezjanie.pl/
DTSTART:20240116T150000
DTEND:20240116T150000
DTSTAMP:20260419T232829
CATEGORIES:Msza święta
LOCATION:Łęcze 82-340 Łęcze 48
GEO:54.2700545652713;19.468870040475466
DESCRIPTION:
URL:https://lecze-salezjanie.pl//component/djevents/details/2024-01-16/2018-za-parafian-4
END:VEVENT
END:VCALENDAR
