BEGIN:VCALENDAR
VERSION:2.0
PRODID:-//https://lecze-salezjanie.pl///DJ-Events//EN
BEGIN:VEVENT
SUMMARY:O Boże Błogosławieństwo i potrzebne łaski dla Teresy Rygała z okazji 75 urodzin
UID:2019@https://lecze-salezjanie.pl/
DTSTART:20240117T150000
DTEND:20240117T150000
DTSTAMP:20260419T234235
CATEGORIES:Msza święta
LOCATION:Łęcze 82-340 Łęcze 48
GEO:54.2700545652713;19.468870040475466
DESCRIPTION:
URL:https://lecze-salezjanie.pl//component/djevents/details/2024-01-17/2019-o-boze-blogoslawienstwo-i-potrzebne-laski-dla-teresy-rygala-z-okazji-75-urodzin
END:VEVENT
END:VCALENDAR
