BEGIN:VCALENDAR
VERSION:2.0
PRODID:-//https://lecze-salezjanie.pl///DJ-Events//EN
BEGIN:VEVENT
SUMMARY:O Boże Błogosławieństwo, opiekę Matki Bożej dla Agnieszki, Macieja i ich dzieci
UID:1813@https://lecze-salezjanie.pl/
DTSTART:20240120T100000
DTEND:20240120T100000
DTSTAMP:20260419T233746
CATEGORIES:Msza święta
LOCATION:Łęcze 82-340 Łęcze 48
GEO:54.2700545652713;19.468870040475466
DESCRIPTION:
URL:https://lecze-salezjanie.pl//component/djevents/details/2024-01-20/1813-o-boze-blogoslawienstwo-opieke-matki-bozej-dla-agnieszki-macieja-i-ich-dzieci
END:VEVENT
END:VCALENDAR
