BEGIN:VCALENDAR
VERSION:2.0
PRODID:-//https://lecze-salezjanie.pl///DJ-Events//EN
BEGIN:VEVENT
SUMMARY:+ Andrzej Rakowski - w 5 rocznicę śmierci
UID:1920@https://lecze-salezjanie.pl/
DTSTART:20240121T103000
DTEND:20240121T103000
DTSTAMP:20260420T010558
CATEGORIES:Msza święta
LOCATION:Suchacz 82-340 Kielecka 14
GEO:54.2856461944789;19.44132685661316
DESCRIPTION:
URL:https://lecze-salezjanie.pl//component/djevents/details/2024-01-21/1920-andrzej-rakowski-w-5-rocznice-smierci
END:VEVENT
END:VCALENDAR
