BEGIN:VCALENDAR
VERSION:2.0
PRODID:-//https://lecze-salezjanie.pl///DJ-Events//EN
BEGIN:VEVENT
SUMMARY:+ Maria i Jan Pawlak, Jan Chomań
UID:2016@https://lecze-salezjanie.pl/
DTSTART:20240121T090000
DTEND:20240121T090000
DTSTAMP:20260420T010542
CATEGORIES:Msza święta
LOCATION:Suchacz 82-340 Kielecka 14
GEO:54.2856461944789;19.44132685661316
DESCRIPTION:
URL:https://lecze-salezjanie.pl//component/djevents/details/2024-01-21/2016-maria-i-jan-pawlak-jan-choman
END:VEVENT
END:VCALENDAR
