BEGIN:VCALENDAR
VERSION:2.0
PRODID:-//https://lecze-salezjanie.pl///DJ-Events//EN
BEGIN:VEVENT
SUMMARY:+ Stanisława Rogowska
UID:2025@https://lecze-salezjanie.pl/
DTSTART:20240125T110000
DTEND:20240125T110000
DTSTAMP:20260420T010523
CATEGORIES:Pogrzeb
LOCATION:Suchacz 82-340 Kielecka 14
GEO:54.2856461944789;19.44132685661316
DESCRIPTION:
URL:https://lecze-salezjanie.pl//component/djevents/details/2024-01-25/2025-stanislawa-rogowska
END:VEVENT
END:VCALENDAR
