BEGIN:VCALENDAR
VERSION:2.0
PRODID:-//https://lecze-salezjanie.pl///DJ-Events//EN
BEGIN:VEVENT
SUMMARY:O dary Bożej Miłości, zdrowie i nieustanną opiekę Matki Bożej dla Agnieszki Hetman z okazji 30 urodzin
UID:1815@https://lecze-salezjanie.pl/
DTSTART:20240126T180000
DTEND:20240126T180000
DTSTAMP:20260420T011327
CATEGORIES:Msza święta
LOCATION:Łęcze 82-340 Łęcze 48
GEO:54.2700545652713;19.468870040475466
DESCRIPTION:
URL:https://lecze-salezjanie.pl//component/djevents/details/2024-01-26/1815-o-dary-bozej-milosci-zdrowie-i-nieustanna-opieke-matki-bozej-dla-agnieszki-hetman-z-okazji-30-urodzin
END:VEVENT
END:VCALENDAR
