BEGIN:VCALENDAR
VERSION:2.0
PRODID:-//https://lecze-salezjanie.pl///DJ-Events//EN
BEGIN:VEVENT
SUMMARY:+ Norbert i Klara Zdeb, Olga Issajewicz
UID:1817@https://lecze-salezjanie.pl/
DTSTART:20240128T120000
DTEND:20240128T120000
DTSTAMP:20260420T042903
CATEGORIES:Msza święta
LOCATION:Łęcze 82-340 Łęcze 48
GEO:54.2700545652713;19.468870040475466
DESCRIPTION:
URL:https://lecze-salezjanie.pl//component/djevents/details/2024-01-28/1817-norbert-i-klara-zdeb-olga-issajewicz
END:VEVENT
END:VCALENDAR
