BEGIN:VCALENDAR
VERSION:2.0
PRODID:-//https://lecze-salezjanie.pl///DJ-Events//EN
BEGIN:VEVENT
SUMMARY:Dziękczynna, z prośbą o Boże Błogosławieństwo i opiekę Matki Bożej dla rodziców
UID:1922@https://lecze-salezjanie.pl/
DTSTART:20240128T103000
DTEND:20240128T103000
DTSTAMP:20260420T043324
CATEGORIES:Msza święta
LOCATION:Suchacz 82-340 Kielecka 14
GEO:54.2856461944789;19.44132685661316
DESCRIPTION:
URL:https://lecze-salezjanie.pl//component/djevents/details/2024-01-28/1922-dziekczynna-z-prosba-o-boze-blogoslawienstwo-i-opieke-matki-bozej-dla-rodzicow
END:VEVENT
END:VCALENDAR
