BEGIN:VCALENDAR
VERSION:2.0
PRODID:-//https://lecze-salezjanie.pl///DJ-Events//EN
BEGIN:VEVENT
SUMMARY:+ Józef Antonik - Msza święta Gregoriańska (29)
UID:1801@https://lecze-salezjanie.pl/
DTSTART:20240129T180000
DTEND:20240129T180000
DTSTAMP:20260420T025557
CATEGORIES:Msza święta
LOCATION:Łęcze 82-340 Łęcze 48
GEO:54.2700545652713;19.468870040475466
DESCRIPTION:
URL:https://lecze-salezjanie.pl//component/djevents/details/2024-01-29/1801-jozef-antonik-msza-swieta-gregorianska-29
END:VEVENT
END:VCALENDAR
