BEGIN:VCALENDAR
VERSION:2.0
PRODID:-//https://lecze-salezjanie.pl///DJ-Events//EN
BEGIN:VEVENT
SUMMARY:+ Mieczysław Ciemniewski - w 20 rocznicę śmierci, Halina Jabłońska, Eugenia i Franciszek Ciemniewscy, zmarli z rodziny Bauszewskich
UID:1819@https://lecze-salezjanie.pl/
DTSTART:20240131T180000
DTEND:20240131T180000
DTSTAMP:20260420T025946
CATEGORIES:Msza święta
LOCATION:Łęcze 82-340 Łęcze 48
GEO:54.2700545652713;19.468870040475466
DESCRIPTION:
URL:https://lecze-salezjanie.pl//component/djevents/details/2024-01-31/1819-mieczyslaw-ciemniewski-w-20-rocznice-smierci-halina-jablonska-eugenia-i-franciszek-ciemniewscy-zmarli-z-rodziny-bauszewskich
END:VEVENT
END:VCALENDAR
