BEGIN:VCALENDAR
VERSION:2.0
PRODID:-//https://lecze-salezjanie.pl///DJ-Events//EN
BEGIN:VEVENT
SUMMARY:Za zmarłych Współbraci Salezjanów
UID:1820@https://lecze-salezjanie.pl/
DTSTART:20240201T180000
DTEND:20240201T180000
DTSTAMP:20260420T043019
CATEGORIES:Msza święta
LOCATION:Łęcze 82-340 Łęcze 48
GEO:54.2700545652713;19.468870040475466
DESCRIPTION:
URL:https://lecze-salezjanie.pl//component/djevents/details/2024-02-01/1820-za-zmarlych-wspolbraci-salezjanow-2
END:VEVENT
END:VCALENDAR
