BEGIN:VCALENDAR
VERSION:2.0
PRODID:-//https://lecze-salezjanie.pl///DJ-Events//EN
BEGIN:VEVENT
SUMMARY:Za zmarłych Współbraci Salezjanów
UID:1924@https://lecze-salezjanie.pl/
DTSTART:20240201T170000
DTEND:20240201T170000
DTSTAMP:20260420T043030
CATEGORIES:Msza święta
LOCATION:Suchacz 82-340 Kielecka 14
GEO:54.2856461944789;19.44132685661316
DESCRIPTION:
URL:https://lecze-salezjanie.pl//component/djevents/details/2024-02-01/1924-za-zmarlych-wspolbraci-salezjanow-2
END:VEVENT
END:VCALENDAR
