BEGIN:VCALENDAR
VERSION:2.0
PRODID:-//https://lecze-salezjanie.pl///DJ-Events//EN
BEGIN:VEVENT
SUMMARY:Za zmarłych polecanych w Wypominkach
UID:1821@https://lecze-salezjanie.pl/
DTSTART:20240202T180000
DTEND:20240202T180000
DTSTAMP:20260420T025715
CATEGORIES:Msza święta
LOCATION:Łęcze 82-340 Łęcze 48
GEO:54.2700545652713;19.468870040475466
DESCRIPTION:
URL:https://lecze-salezjanie.pl//component/djevents/details/2024-02-02/1821-za-zmarlych-polecanych-w-wypominkach-2
END:VEVENT
END:VCALENDAR
