BEGIN:VCALENDAR
VERSION:2.0
PRODID:-//https://lecze-salezjanie.pl///DJ-Events//EN
BEGIN:VEVENT
SUMMARY:W intencji Koła Żywego Różańca
UID:1822@https://lecze-salezjanie.pl/
DTSTART:20240203T180000
DTEND:20240203T180000
DTSTAMP:20260420T030113
CATEGORIES:Msza święta
LOCATION:Łęcze 82-340 Łęcze 48
GEO:54.2700545652713;19.468870040475466
DESCRIPTION:
URL:https://lecze-salezjanie.pl//component/djevents/details/2024-02-03/1822-w-intencji-kola-zywego-rozanca-2
END:VEVENT
END:VCALENDAR
