BEGIN:VCALENDAR
VERSION:2.0
PRODID:-//https://lecze-salezjanie.pl///DJ-Events//EN
BEGIN:VEVENT
SUMMARY:+ Anna Nikiciuk
UID:2027@https://lecze-salezjanie.pl/
DTSTART:20240203T133000
DTEND:20240203T133000
DTSTAMP:20260420T025353
CATEGORIES:Pogrzeb
LOCATION:Łęcze 82-340 Łęcze 48
GEO:54.2700545652713;19.468870040475466
DESCRIPTION:
URL:https://lecze-salezjanie.pl//component/djevents/details/2024-02-03/2027-anna-nikiciuk
END:VEVENT
END:VCALENDAR
