BEGIN:VCALENDAR
VERSION:2.0
PRODID:-//https://lecze-salezjanie.pl///DJ-Events//EN
BEGIN:VEVENT
SUMMARY:+ Teresa Bąk - w 10 rocznicę śmierci
UID:1824@https://lecze-salezjanie.pl/
DTSTART:20240204T090000
DTEND:20240204T090000
DTSTAMP:20260420T044231
CATEGORIES:Msza święta
LOCATION:Łęcze 82-340 Łęcze 48
GEO:54.2700545652713;19.468870040475466
DESCRIPTION:
URL:https://lecze-salezjanie.pl//component/djevents/details/2024-02-04/1824-teresa-bak-w-10-rocznice-smierci
END:VEVENT
END:VCALENDAR
