BEGIN:VCALENDAR
VERSION:2.0
PRODID:-//https://lecze-salezjanie.pl///DJ-Events//EN
BEGIN:VEVENT
SUMMARY:O Błogosławieństwo Boże i potrzebne łaski dla Martyny z okazji urodzin
UID:2026@https://lecze-salezjanie.pl/
DTSTART:20240204T090000
DTEND:20240204T090000
DTSTAMP:20260420T044904
CATEGORIES:Msza święta
LOCATION:Suchacz 82-340 Kielecka 14
GEO:54.2856461944789;19.44132685661316
DESCRIPTION:
URL:https://lecze-salezjanie.pl//component/djevents/details/2024-02-04/2026-o-blogoslawienstwo-boze-i-potrzebne-laski-dla-martyny-z-okazji-urodzin
END:VEVENT
END:VCALENDAR
