BEGIN:VCALENDAR
VERSION:2.0
PRODID:-//https://lecze-salezjanie.pl///DJ-Events//EN
BEGIN:VEVENT
SUMMARY:O dary Bożej Miłości, zdrowie i nieustanną opiekę Matki Bożej dla Romualdy Szczepura i jej rodziny
UID:1844@https://lecze-salezjanie.pl/
DTSTART:20240207T180000
DTEND:20240207T180000
DTSTAMP:20260420T044747
CATEGORIES:Msza święta
LOCATION:Łęcze 82-340 Łęcze 48
GEO:54.2700545652713;19.468870040475466
DESCRIPTION:
URL:https://lecze-salezjanie.pl//component/djevents/details/2024-02-07/1844-o-dary-bozej-milosci-zdrowie-i-nieustanna-opieke-matki-bozej-dla-romualdy-szczepura-i-jej-rodziny
END:VEVENT
END:VCALENDAR
