BEGIN:VCALENDAR
VERSION:2.0
PRODID:-//https://lecze-salezjanie.pl///DJ-Events//EN
BEGIN:VEVENT
SUMMARY:+ Janina Szmygiel - Msza święta Gregoriańska (8)
UID:1930@https://lecze-salezjanie.pl/
DTSTART:20240208T170000
DTEND:20240208T170000
DTSTAMP:20260420T044838
CATEGORIES:Msza święta
LOCATION:Suchacz 82-340 Kielecka 14
GEO:54.2856461944789;19.44132685661316
DESCRIPTION:
URL:https://lecze-salezjanie.pl//component/djevents/details/2024-02-08/1930-janina-szmygiel-msza-swieta-gregorianska-8
END:VEVENT
END:VCALENDAR
