BEGIN:VCALENDAR
VERSION:2.0
PRODID:-//https://lecze-salezjanie.pl///DJ-Events//EN
BEGIN:VEVENT
SUMMARY:+ Marek Pokora
UID:1845@https://lecze-salezjanie.pl/
DTSTART:20240211T120000
DTEND:20240211T120000
DTSTAMP:20260420T060534
CATEGORIES:Msza święta
LOCATION:Łęcze 82-340 Łęcze 48
GEO:54.2700545652713;19.468870040475466
DESCRIPTION:
URL:https://lecze-salezjanie.pl//component/djevents/details/2024-02-11/1845-marek-pokora-2
END:VEVENT
END:VCALENDAR
