BEGIN:VCALENDAR
VERSION:2.0
PRODID:-//https://lecze-salezjanie.pl///DJ-Events//EN
BEGIN:VEVENT
SUMMARY:+ Wanda, Maria i Władysław
UID:1931@https://lecze-salezjanie.pl/
DTSTART:20240211T090000
DTEND:20240211T090000
DTSTAMP:20260420T061426
CATEGORIES:Msza święta
LOCATION:Suchacz 82-340 Kielecka 14
GEO:54.2856461944789;19.44132685661316
DESCRIPTION:
URL:https://lecze-salezjanie.pl//component/djevents/details/2024-02-11/1931-wanda-maria-i-wladyslaw
END:VEVENT
END:VCALENDAR
