BEGIN:VCALENDAR
VERSION:2.0
PRODID:-//https://lecze-salezjanie.pl///DJ-Events//EN
BEGIN:VEVENT
SUMMARY:+ Jadwiga Szczodrowska - z ofiar pogrzebu
UID:1932@https://lecze-salezjanie.pl/
DTSTART:20240211T120000
DTEND:20240211T120000
DTSTAMP:20260420T061910
CATEGORIES:Msza święta
LOCATION:Kamionek Wielki 82-340 Kamionek Wielki 5
GEO:54.262029131955885;19.404954271163948
DESCRIPTION:
URL:https://lecze-salezjanie.pl//component/djevents/details/2024-02-11/1932-jadwiga-szczodrowska-z-ofiar-pogrzebu-2
END:VEVENT
END:VCALENDAR
